BEGIN:VCALENDAR
VERSION:2.0
PRODID:-//wp-events-plugin.com//7.2.3.1//EN
BEGIN:VEVENT
UID:56@fecoop.com
DTSTART;VALUE=DATE:20261225
DTEND;VALUE=DATE:20261226
DTSTAMP:20251210T141713Z
URL:https://fecoop.com/events/christmas-day-3/
SUMMARY:Christmas Day
DESCRIPTION:All Offices Closed in Observance of Christmas
END:VEVENT
END:VCALENDAR