BEGIN:VCALENDAR
VERSION:2.0
PRODID:-//wp-events-plugin.com//7.2.3.1//EN
BEGIN:VEVENT
UID:53@fecoop.com
DTSTART;TZID=America/Chicago:20261126T000000
DTEND;TZID=America/Chicago:20261126T000000
DTSTAMP:20251210T141544Z
URL:https://fecoop.com/events/thanksgiving-2/
SUMMARY:Thanksgiving
DESCRIPTION:All Offices Closed
END:VEVENT
BEGIN:VTIMEZONE
TZID:America/Chicago
X-LIC-LOCATION:America/Chicago
BEGIN:STANDARD
DTSTART:20261101T010000
TZOFFSETFROM:-0500
TZOFFSETTO:-0600
TZNAME:CST
END:STANDARD
END:VTIMEZONE
END:VCALENDAR